BEGIN:VCALENDAR
METHOD:PUBLISH
VERSION:2.0
CALSCALE:GREGORIAN
PRODID:-//NONSGML WPForms//NONSGML Sugar Calendar Feeds v3.9.0//EN
X-WR-CALNAME:[Palatka - Teen/Adult] Beginner Crochet
X-WR-CALDESC:Putnam County Library System
X-WR-TIMEZONE:America/New_York
BEGIN:VTIMEZONE
TZID:America/New_York
BEGIN:STANDARD
TZOFFSETFROM:-0400
TZOFFSETTO:-0500
DTSTART:20251102T060000
TZNAME:EST
END:STANDARD
END:VTIMEZONE
BEGIN:VTIMEZONE
TZID:America/New_York
BEGIN:STANDARD
TZOFFSETFROM:-0400
TZOFFSETTO:-0500
DTSTART:20251102T060000
TZNAME:EST
END:STANDARD
END:VTIMEZONE
BEGIN:VEVENT
SUMMARY:[Palatka - Teen/Adult] Beginner Crochet
DESCRIPTION:Ready to crochet and not sure where to start?  Already talen
 ted with the hook and just looking to hang out? Crochet enthusiasts of a
 ll ages and skill levels are invited to hang out with us.  For those new
  to crochet\, we will have yarn and hooks for you to learn with.
URL;VALUE=URI:https://pcls.team/events/palatka-teen-adult-beginner-croch
 et/
UID:0cri1og4ck1k8m1703ml52dft7@google.com
STATUS:CONFIRMED
ORGANIZER:
DTSTAMP:20260420T092214Z
DTSTART;TZID=America/New_York:20251115T103000
DTEND;TZID=America/New_York:20251115T123000
END:VEVENT
END:VCALENDAR