BEGIN:VCALENDAR
METHOD:PUBLISH
VERSION:2.0
CALSCALE:GREGORIAN
PRODID:-//NONSGML WPForms//NONSGML Sugar Calendar Feeds v3.9.0//EN
X-WR-CALNAME:All Putnam County Libraries Closed
X-WR-CALDESC:Putnam County Library System
X-WR-TIMEZONE:America/New_York
BEGIN:VTIMEZONE
TZID:America/New_York
BEGIN:STANDARD
TZOFFSETFROM:-0400
TZOFFSETTO:-0500
DTSTART:20251102T060000
TZNAME:EST
END:STANDARD
END:VTIMEZONE
BEGIN:VTIMEZONE
TZID:America/New_York
BEGIN:STANDARD
TZOFFSETFROM:-0400
TZOFFSETTO:-0500
DTSTART:20251102T060000
TZNAME:EST
END:STANDARD
END:VTIMEZONE
BEGIN:VEVENT
SUMMARY:All Putnam County Libraries Closed
DESCRIPTION:Our libraries will be closed in observance of the holiday se
 ason.  We will reopen on Friday\, December 26th.
URL;VALUE=URI:https://pcls.team/events/all-putnam-county-libraries-close
 d/
UID:3v065el6ojjck78hqpfciv6i8s@google.com
STATUS:CONFIRMED
ORGANIZER:
DTSTAMP:20260422T084458Z
DTSTART;TZID=America/New_York:20251224T000000
DTEND;TZID=America/New_York:20251226T000000
END:VEVENT
END:VCALENDAR